BEGIN:VCALENDAR
VERSION:2.0
PRODID:-//COMACA//COMACA 2026//ES
CALSCALE:GREGORIAN
METHOD:PUBLISH
BEGIN:VEVENT
UID:comaca-2026@comaca2026.com
DTSTAMP:20260101T000000Z
DTSTART;VALUE=DATE:20260903
DTEND;VALUE=DATE:20260907
SUMMARY:COMACA 2026 — Asamblea Anual
LOCATION:Hotel Porta del Lago\, Panajachel\, Sololá\, Guatemala
DESCRIPTION:Confederación Masónica de Centroamérica y el Caribe — Asamblea Anual 2026.\n\nDel 3 al 6 de septiembre de 2026 en Panajachel\, Guatemala.\n\nMás información: https://comaca2026.com
URL:https://comaca2026.com
STATUS:CONFIRMED
END:VEVENT
END:VCALENDAR
